BEGIN:VCALENDAR
VERSION:2.0
PRODID:-//ChamberMaster//Event Calendar 2.0//EN
METHOD:PUBLISH
X-PUBLISHED-TTL:P3D
REFRESH-INTERVAL:P3D
CALSCALE:GREGORIAN
BEGIN:VEVENT
DTSTART;VALUE=DATE:20090816
DTEND;VALUE=DATE:20090817
TRANSP:TRANSPARENT
X-MICROSOFT-CDO-ALLDAYEVENT:TRUE
SUMMARY:The Taste of Cary Grove
DESCRIPTION:The Taste of Cary Grove!Come out on Sunday\, August 16 for great food from local restaurants including Galati's\, Kojak's / Chicago Eats Catering\, Brunch Cafe\, Wool Street\, Tony V's II\, Five O'Clock Steakhouse and lemonade provided by Walgreens for the Taste of Cary Grove\, sponsored by Cary Grove Neighborhood Life (CGNL).  This event will be held at Lake Julian Trout Farm\, located at 65 S. Highway 14 in Cary.  There will be live DJ music\, children's activities and games\, a bingo tent with prizes.  Tickets must be purchased in advance - $15 for adults and $10 for children under 12 years old\, which includes your food and beverage tasting. There will be two seatings you can choose\, either 3:00 to 5:00 p.m. or 6:00 to 8:00 p.m.  Bring blankets and lawn chairs.  No pets allowed.  All proceeds will be donated to the CGNL "Feed the Hungry campaign" and community needs programs. Go to www.carygrove.org for ticket information.
X-ALT-DESC;FMTTYPE=text/html:<div><p class="MsoNormal" style="margin: 0in 0in 0pt\; line-height: 14.4pt"><span style="font-size: 11pt\; color: black\; font-family: Arial\; mso-bidi-font-size: 9.0pt\; mso-font-kerning: 0pt\; mso-fareast-language: EN-US\; mso-fareast-font-family: 'Times New Roman'">The Taste of Cary Grove!</span></p><p class="MsoNormal" style="margin: 0in 0in 0pt\; line-height: 14.4pt"><span style="font-size: 11pt\; color: black\; font-family: Arial\; mso-bidi-font-size: 9.0pt\; mso-font-kerning: 0pt\; mso-fareast-language: EN-US\; mso-fareast-font-family: 'Times New Roman'">Come out on Sunday\, August 16 for great food from&nbsp\;local restaurants including <b style="mso-bidi-font-weight: normal">Galati&rsquo\;s\,&nbsp\;Kojak&rsquo\;s / Chicago Eats Catering\, Brunch Cafe\, Wool Street\,&nbsp\;Tony V's II\,</b><b style="mso-bidi-font-weight: normal"> Five O&rsquo\;Clock Steakhouse</b><span style="mso-spacerun: yes">&nbsp\;and lemonade provided by&nbsp\;<strong>Walgreens</strong>&nbsp\;</span>for the Taste of Cary Grove\, sponsored by <b style="mso-bidi-font-weight: normal">Cary Grove Neighborhood Life (CGNL)</b>.<span style="mso-spacerun: yes">&nbsp\; </span>This event will be held at <b style="mso-bidi-font-weight: normal">Lake Julian Trout Farm</b>\, located at 65 S. Highway 14 in Cary.&nbsp\; There will be live DJ music\, children&rsquo\;s activities and games\, a bingo tent with prizes.<span style="mso-spacerun: yes">&nbsp\; </span>Tickets must be purchased in advance - $15 for adults and $10 for children under 12 years old\, which includes your food and beverage tasting. There will be two seatings you can choose\, either 3</span><st1:time hour="13" minute="0"><span style="font-size: 11pt\; color: black\; font-family: Arial\; mso-bidi-font-size: 9.0pt\; mso-font-kerning: 0pt\; mso-fareast-language: EN-US\; mso-fareast-font-family: 'Times New Roman'">:00 to 5:00 p.m.</span></st1:time><span style="font-size: 11pt\; color: black\; font-family: Arial\; mso-bidi-font-size: 9.0pt\; mso-font-kerning: 0pt\; mso-fareast-language: EN-US\; mso-fareast-font-family: 'Times New Roman'"> or 6</span><st1:time hour="16" minute="0"><span style="font-size: 11pt\; color: black\; font-family: Arial\; mso-bidi-font-size: 9.0pt\; mso-font-kerning: 0pt\; mso-fareast-language: EN-US\; mso-fareast-font-family: 'Times New Roman'">:00 to 8:00 p.m.</span></st1:time><span style="font-size: 11pt\; color: black\; font-family: Arial\; mso-bidi-font-size: 9.0pt\; mso-font-kerning: 0pt\; mso-fareast-language: EN-US\; mso-fareast-font-family: 'Times New Roman'">&nbsp\;<span style="mso-spacerun: yes"> B</span>ring blankets and lawn chairs.&nbsp\; No pets allowed.&nbsp\; All proceeds will be donated to the <b style="mso-bidi-font-weight: normal">CGNL &quot\;Feed the Hungry campaign&quot\; and community needs programs</b>. Go to <a href="http://www.carygrove.org/"><span style="color: black\; mso-bidi-font-size: 12.0pt">www.carygrove.org</span></a> for ticket information. </span></p></div>
LOCATION:"Lake Julian on Route 14 in Cary"Lake Julian Trout Farm 65 S. Highway 14 Cary\, IL
UID:e.138.493
SEQUENCE:3
DTSTAMP:20260424T180443Z
URL:https://business.carygrovechamber.com/events/details/the-taste-of-cary-grove-08-16-2009-493
END:VEVENT

END:VCALENDAR
