BEGIN:VCALENDAR
VERSION:2.0
PRODID:-//ChamberMaster//Event Calendar 2.0//EN
METHOD:PUBLISH
X-PUBLISHED-TTL:P3D
REFRESH-INTERVAL:P3D
CALSCALE:GREGORIAN
BEGIN:VEVENT
DTSTART:20080817T180000Z
DTEND:20080817T230000Z
X-MICROSOFT-CDO-ALLDAYEVENT:FALSE
SUMMARY:The Taste of Cary Grove
DESCRIPTION:Come out on August 17 at Lake Julian Trout Farm on Route 14 in Cary for great food from local restaurants including Galati's\, The Tracks\, Boardwalk Bob's\, The Cary Coffee Station\, Kojak's / Chicago Eats Catering\, Brunch Cafe\, Wool Street\, Peter's Bakery and Five O'Clock Steakhouse.Featuring live music from "Jake to the Bone" Children's activities and gamesBingo tent and prizesArt auction featuring local artist Caitlin GalassoTickets $10 - adults / $5 - Children under 12 years.  Must purchase tickets in advance  Food and Beverage tasting included in your tickets. Go to www.carygrove.org for ticket information.Two seatings to choose from: 1:00 to 3:00 p.m. or 4:00 to 6:00 p.m.Bring blankets and lawnchairs.  No pets allowed.  All proceeds will be donated to the Cary Grove Food Pantry. Event sponsored by Cary Grove Neighborhood Life.
X-ALT-DESC;FMTTYPE=text/html:<div>Come out on August 17 at Lake Julian Trout Farm on Route 14 in Cary for great food from&nbsp\;local restaurants including Galati&rsquo\;s\, The Tracks\, Boardwalk Bob&rsquo\;s\, The Cary Coffee Station\, Kojak&rsquo\;s / Chicago Eats Catering\, Brunch Cafe\, Wool Street\, Peter&rsquo\;s Bakery and Five O&rsquo\;Clock Steakhouse.</div><ul><li>Featuring live music from &quot\;Jake to the Bone&quot\;&nbsp\;</li><li>Children&rsquo\;s activities and games</li><li>Bingo tent and prizes</li><li>Art auction featuring local artist Caitlin Galasso</li></ul><p>Tickets $10 - adults / $5 - Children under 12 years.&nbsp\; Must purchase tickets in advance&nbsp\; Food and Beverage tasting included in your tickets. Go to <a href="http://www.carygrove.org/">www.carygrove.org</a> for ticket information.</p><p>Two seatings to choose from: 1:00 to 3:00 p.m. or 4:00 to 6:00 p.m.</p><div>Bring blankets and lawnchairs.&nbsp\; No pets allowed.&nbsp\;</div><div>&nbsp\;</div><div>All proceeds will be donated to the Cary Grove Food Pantry.&nbsp\;</div><div><div>Event sponsored by Cary Grove Neighborhood Life.</div></div>
LOCATION:Lake Julian Trout Farm65 S. Highway 14\, Cary
UID:e.138.290
SEQUENCE:3
DTSTAMP:20260425T105334Z
URL:https://business.carygrovechamber.com/events/details/the-taste-of-cary-grove-08-17-2008-290
END:VEVENT

END:VCALENDAR
