BEGIN:VCALENDAR
VERSION:2.0
PRODID:-//ChamberMaster//Event Calendar 2.0//EN
METHOD:PUBLISH
X-PUBLISHED-TTL:P3D
REFRESH-INTERVAL:P3D
CALSCALE:GREGORIAN
BEGIN:VEVENT
DTSTART;VALUE=DATE:20100303
DTEND;VALUE=DATE:20100304
TRANSP:TRANSPARENT
X-MICROSOFT-CDO-ALLDAYEVENT:TRUE
SUMMARY:The UPS Store - Open House
DESCRIPTION:The UPS Store in FRG is having an Open House on Wednesday\, March 3 from 11 a.m.   1 p.m. at 728 Northwest Hwy\, Fox River Grove.  Stop by and enjoy some appetizers!  Please bring a new book(s) for the book drive for Toys for Tot.  March is National Literacy month.For more information\, call the UPS Store at (847) 516-3137.
X-ALT-DESC;FMTTYPE=text/html:<div><div><b>The <span id="lw_1263401398_6" style="border-bottom: medium none\; background: none transparent scroll repeat 0% 0%\; cursor: hand">UPS Store</span> in FRG is having an Open House on </b><b>Wednesday\, March 3 from <div><strong>11 a.m. &ndash\; 1 p.m. at <strong><span id="lw_1263401398_7" style="border-bottom: #0066cc 1px dashed\; background: none transparent scroll repeat 0% 0%\; cursor: hand">728 Northwest Hwy\, Fox River Grove.</span></strong></strong></div><div>&nbsp\;</div> Stop by and enjoy some appetizers!&nbsp\; Please bring a&nbsp\;new book(s) for the book drive for&nbsp\;</b><b>Toys for Tot.&nbsp\; March is National Literacy&nbsp\;month.</b></div><div><strong><span style="border-bottom: #0066cc 1px dashed\; background: none transparent scroll repeat 0% 0%\; cursor: hand">For more information\, call the UPS Store at (847) 516-3137.</span></strong></div><div>&nbsp\;</div></div>
LOCATION:The UPS Store in FRG 728 Northwest Hwy. Fox River Grove\, IL
UID:e.138.705
SEQUENCE:3
DTSTAMP:20260424T110453Z
URL:https://business.carygrovechamber.com/events/details/the-ups-store-open-house-03-03-2010-705
END:VEVENT

END:VCALENDAR
