BEGIN:VCALENDAR
VERSION:2.0
PRODID:-//ChamberMaster//Event Calendar 2.0//EN
METHOD:PUBLISH
X-PUBLISHED-TTL:P3D
REFRESH-INTERVAL:P3D
CALSCALE:GREGORIAN
BEGIN:VEVENT
DTSTART;VALUE=DATE:20071206
DTEND;VALUE=DATE:20071218
TRANSP:TRANSPARENT
X-MICROSOFT-CDO-ALLDAYEVENT:TRUE
SUMMARY:The Wonderberry Tree's ''12 Days of Christmas Celebration''
DESCRIPTION:Featured specials every day\nFriday 12/7 to Sunday 12/9: Free gift with any purchase of $25 or more (1 per customer/while supplies last)\nFriday 12/14 to Sunday 12/16: Every purchase is a winner!
X-ALT-DESC;FMTTYPE=text/html:Featured specials every day\nFriday 12/7 to Sunday 12/9: Free gift with any purchase of $25 or more (1 per customer/while supplies last)\nFriday 12/14 to Sunday 12/16: Every purchase is a winner!\n      
LOCATION:3106 Three Oaks Rd. Cary (Between Jimmy John's & Dairy Queen)
UID:e.138.144
SEQUENCE:3
DTSTAMP:20260425T221742Z
URL:https://business.carygrovechamber.com/events/details/the-wonderberry-tree-s-12-days-of-christmas-celebration-12-06-2007-144
END:VEVENT

END:VCALENDAR
