BEGIN:VCALENDAR
VERSION:2.0
PRODID:-//ChamberMaster//Event Calendar 2.0//EN
METHOD:PUBLISH
X-PUBLISHED-TTL:P3D
REFRESH-INTERVAL:P3D
CALSCALE:GREGORIAN
BEGIN:VEVENT
DTSTART;VALUE=DATE:20090815
DTEND;VALUE=DATE:20090816
TRANSP:TRANSPARENT
X-MICROSOFT-CDO-ALLDAYEVENT:TRUE
SUMMARY:Third Annual Motorcycle Ride Hosted by Pioneer Center
DESCRIPTION:Join Pioneer Center for Human Services for their third annual motorcycle ride on Saturday\, August 15 at 10:00 a.m. The 100 mile ride will begin in Wonder Lake and end at Pier West Restaurant in Twin Lakes. Cost to ride is $25 for a single rider\; $30 for a rider with passenger. Gather your friends\, neighbors and family members for this fun motorcycle ride through the back roads of Wisconsin.  All proceeds will benefit Pioneer Center for Human Services\, a not-for-profit agency that provides services to over 1800 individuals annually in McHenry County for people with developmental disabilities\, mental illness\, traumatic brain injury\, and provides early intervention therapies for children from birth to age five. It also serves victims of sexual assault through the VOICE program and homeless men\, women and children through the PADS program. To participate\, pre-register by phone or email to Tracy at (815) 759-7112 or tchampio@pioneercenter.org.
X-ALT-DESC;FMTTYPE=text/html:Join Pioneer Center for Human Services for their third annual motorcycle ride on Saturday\, August 15 at 10:00 a.m. The 100 mile ride will begin in Wonder Lake and end at Pier West Restaurant in Twin Lakes. Cost to ride is $25 for a single rider\; $30 for a rider with passenger. Gather your friends\, neighbors and family members for this fun motorcycle ride through the back roads of Wisconsin.  All proceeds will benefit Pioneer Center for Human Services\, a not-for-profit agency that provides services to over 1800 individuals annually in McHenry County for people with developmental disabilities\, mental illness\, traumatic brain injury\, and provides early intervention therapies for children from birth to age five. It also serves victims of sexual assault through the VOICE program and homeless men\, women and children through the PADS program. To participate\, pre-register by phone or email to Tracy at (815) 759-7112 or tchampio@pioneercenter.org.
LOCATION:The 100 mile ride will begin in Wonder Lake and end at Pier West Restaurant in Twin Lakes.
UID:e.138.531
SEQUENCE:3
DTSTAMP:20260424T180336Z
URL:https://business.carygrovechamber.com/events/details/third-annual-motorcycle-ride-hosted-by-pioneer-center-08-15-2009-531
END:VEVENT

END:VCALENDAR
