BEGIN:VCALENDAR
VERSION:2.0
PRODID:-//ChamberMaster//Event Calendar 2.0//EN
METHOD:PUBLISH
X-PUBLISHED-TTL:P3D
REFRESH-INTERVAL:P3D
CALSCALE:GREGORIAN
BEGIN:VEVENT
DTSTART:20091205T200000Z
DTEND:20091205T230000Z
X-MICROSOFT-CDO-ALLDAYEVENT:FALSE
SUMMARY:Tree Lighting Festival - Village of Fox River Grove
DESCRIPTION:Village of Fox River Grove   "The 2009 Tree Lighting Festival"Activities at New Hope Church\, 400 Lincoln Ave.\, Fox River GroveSaturday\, December 52:00   5:00 p.m.Santa arrives by fire truck at 3 p.m.  Enjoy horse wagon rides\, crafts\, cookie decorating\, candy walk\, children's holiday bingo\, music.  Bring non-perishable food items to benefit the Cary-Grove Food Pantry.  Tree lighting at 5 p.m. near Metra train lot.
X-ALT-DESC;FMTTYPE=text/html:<div><p class="MsoNormal" style="margin: 0in 0in 0pt"><b style="mso-bidi-font-weight: normal"><span style="font-family: Calibri"><font size="3">Village of Fox River Grove &ndash\; &ldquo\;The 2009 Tree Lighting Festival&rdquo\;<o:p></o:p></font></span></b></p><p class="MsoNormal" style="margin: 0in 0in 0pt"><font size="3"><st1:place><st1:placename><span style="font-family: Calibri">Activities at New Hope</span></st1:placename><span style="font-family: Calibri"> </span><st1:placetype><span style="font-family: Calibri">Church</span></st1:placetype></st1:place><span style="font-family: Calibri">\, </span><st1:street><st1:address><span style="font-family: Calibri">400 Lincoln Ave.</span></st1:address></st1:street><span style="font-family: Calibri">\, Fox River Grove</span></font></p><p class="MsoNormal" style="margin: 0in 0in 0pt"><font size="3"><span style="font-family: Calibri"><o:p><b>Saturday\, </b><b>Dec</b><b>ember 5</b></o:p></span></font></p><p class="MsoNormal" style="margin: 0in 0in 0pt"><font size="3"><st1:time hour="14" minute="0"><span style="font-family: Calibri">2:00 &ndash\; 5:00 p.m.</span></st1:time><span style="font-family: Calibri"><o:p></o:p></span></font></p><p class="MsoNormal" style="margin: 0in 0in 0pt"><font size="3"><span style="font-family: Calibri">Santa arrives by fire truck at </span><st1:time hour="15" minute="0"><span style="font-family: Calibri">3 p.m.</span></st1:time><span style="font-family: Calibri"><span style="mso-spacerun: yes">&nbsp\; </span>Enjoy horse wagon rides\, crafts\, cookie decorating\, candy walk\, children&rsquo\;s holiday bingo\, music.<span style="mso-spacerun: yes">&nbsp\; </span>Bring non-perishable food items to benefit the Cary-Grove Food Pantry.&nbsp\; Tree lighting at 5 p.m. near Metra train lot.<o:p></o:p></span></font></p><p>&nbsp\;</p></div>
LOCATION:New Hope Church\,400 Lincoln Avenue in Fox River Grove
UID:e.138.625
SEQUENCE:3
DTSTAMP:20260424T130126Z
URL:https://business.carygrovechamber.com/events/details/tree-lighting-festival-village-of-fox-river-grove-12-05-2009-625
END:VEVENT

END:VCALENDAR
