BEGIN:VCALENDAR
VERSION:2.0
PRODID:-//ChamberMaster//Event Calendar 2.0//EN
METHOD:PUBLISH
X-PUBLISHED-TTL:P3D
REFRESH-INTERVAL:P3D
CALSCALE:GREGORIAN
BEGIN:VEVENT
DTSTART;VALUE=DATE:20090514
DTEND;VALUE=DATE:20090517
TRANSP:TRANSPARENT
X-MICROSOFT-CDO-ALLDAYEVENT:TRUE
SUMMARY:Trout Valley Flea Market - Benefit for Leona Farms
DESCRIPTION:Leona Farms Restoration Society is having a Flea Market on Thursday\, May 14 and Friday\, May 15 from 9 a.m. - 3 p.m. and Saturday\, May 16 from 9 a.m. - 12 noon at the Trout Valley Barn\, 167 Country Commons Road in Trout Valley off of Cary-Algonquin Road. Items for sale include lawn and garden equipment\, children items\, home accessories\, books\, music\, electronics\, antiques\, sporting goods\, bikes\, clothing\, jewelry\, accessories\, pet supplies and more. Saturday only is $10 fill-a-bag.
X-ALT-DESC;FMTTYPE=text/html:<div>Leona Farms Restoration Society is having a Flea Market on Thursday\, May 14 and Friday\, May 15 from 9 a.m. - 3 p.m. and Saturday\, May 16 from 9 a.m. - 12 noon at the Trout Valley Barn\, 167 Country Commons Road in Trout Valley off of Cary-Algonquin Road. Items for sale include lawn and garden equipment\, children items\, home accessories\, books\, music\, electronics\, antiques\, sporting goods\, bikes\, clothing\, jewelry\, accessories\, pet supplies and more. Saturday only is $10 fill-a-bag.</div>
LOCATION:Trout Valley Barn167 Country Commons Road in Trout Valleyoff of Cary-Algonquin Road
UID:e.138.466
SEQUENCE:3
DTSTAMP:20260424T215007Z
URL:https://business.carygrovechamber.com/events/details/trout-valley-flea-market-benefit-for-leona-farms-05-14-2009-466
END:VEVENT

END:VCALENDAR
