BEGIN:VCALENDAR
VERSION:2.0
PRODID:-//ChamberMaster//Event Calendar 2.0//EN
METHOD:PUBLISH
X-PUBLISHED-TTL:P3D
REFRESH-INTERVAL:P3D
CALSCALE:GREGORIAN
BEGIN:VEVENT
DTSTART:20120417T233000Z
DTEND:20120418T010000Z
X-MICROSOFT-CDO-ALLDAYEVENT:FALSE
SUMMARY:Understanding Common Bowel Disorders
DESCRIPTION:4/17/2012\n\nUnderstanding Common Bowel Disorders\n\nClass Code: 3G67\n\n\n\nDigestive disorders can range from the occasional upset stomach\, heartburn and nausea to the more serious and life threatening colorectal cancer. Please join Ben Dolin MD\, board certified gastroenterologist for an informative discussion on IBS\, diverticulitis and colon screenings as well as other common bowel disorders.
X-ALT-DESC;FMTTYPE=text/html:4/17/2012<br />\nUnderstanding Common Bowel Disorders<br />\nClass Code: 3G67<br />\n<br />\nDigestive disorders can range from the occasional upset stomach\, heartburn and nausea to the more serious and life threatening colorectal cancer. Please join Ben Dolin MD\, board certified gastroenterologist for an informative discussion on IBS\, diverticulitis and colon screenings as well as other common bowel disorders.<br />\n
LOCATION:Advocate Good Shepherd Hospital 450 W. Highway 22 Barrington\, IL
UID:e.138.2725
SEQUENCE:3
DTSTAMP:20260424T085338Z
URL:https://business.carygrovechamber.com/events/details/understanding-common-bowel-disorders-04-17-2012-2725
END:VEVENT

END:VCALENDAR
