BEGIN:VCALENDAR
VERSION:2.0
PRODID:-//ChamberMaster//Event Calendar 2.0//EN
METHOD:PUBLISH
X-PUBLISHED-TTL:P3D
REFRESH-INTERVAL:P3D
CALSCALE:GREGORIAN
BEGIN:VEVENT
DTSTART:20100217T003000Z
DTEND:20100217T020000Z
X-MICROSOFT-CDO-ALLDAYEVENT:FALSE
SUMMARY:Understanding Metabolic Syndrome
DESCRIPTION:People with metabolic syndrome are at increased risk of diabetes\, coronary heart disease and other diseases.  Metabolic syndrome is a combination of medical conditions that increase risk of heart disease and diabetes.  People with metabolic syndrome have some or all of the following:  high blood glucose\, high blood pressure\, abdominal obesity\, low HDL elevated chlesterol and high triglycerides.  Michael Fortsas\, M.D. from Northwest Cardiology Associates\, will discuss more about this syndrome and how to prevent it.
X-ALT-DESC;FMTTYPE=text/html:People with metabolic syndrome are at increased risk of diabetes\, coronary heart disease and other diseases.  Metabolic syndrome is a combination of medical conditions that increase risk of heart disease and diabetes.  People with metabolic syndrome have some or all of the following:  high blood glucose\, high blood pressure\, abdominal obesity\, low HDL elevated chlesterol and high triglycerides.  Michael Fortsas\, M.D. from Northwest Cardiology Associates\, will discuss more about this syndrome and how to prevent it.
LOCATION:Advocate Good Shepherd HospitalBarrington\, IL 60010
UID:e.138.590
SEQUENCE:3
DTSTAMP:20260424T103506Z
URL:https://business.carygrovechamber.com/events/details/understanding-metabolic-syndrome-02-16-2010-590
END:VEVENT

END:VCALENDAR
