BEGIN:VCALENDAR
VERSION:2.0
PRODID:-//ChamberMaster//Event Calendar 2.0//EN
METHOD:PUBLISH
X-PUBLISHED-TTL:P3D
REFRESH-INTERVAL:P3D
CALSCALE:GREGORIAN
BEGIN:VEVENT
DTSTART:20090930T233000Z
DTEND:20091001T010000Z
X-MICROSOFT-CDO-ALLDAYEVENT:FALSE
SUMMARY:Understanding the Prevention of Colorectal Cancer
DESCRIPTION:Colorectal cancer remains the second leading cause of cancer-related death in the United States.  The American Cancer Society recommends that starting at age 50\, all men and women should get screened for colorectal cancer.  Join the following panel of experts for a discussion on prevention\, treatment and family history:  David Ondrula M.D.\, colorectal surgeon with Advocate Good Shepherd Hospital\, will discuss colon cancer screening and the latest in medical and surgical treatments for colon cancer.  Shelly Galasinski\, gentic counselor\, will discuss genetic testing and screening for those with a strong family history.  Gretchen Vanderbosch\, registered dietitian will explain how you can lower your risk by taking charge of the risk factors that can be controlled\, such as diet and exercise
X-ALT-DESC;FMTTYPE=text/html:Colorectal cancer remains the second leading cause of cancer-related death in the United States.  The American Cancer Society recommends that starting at age 50\, all men and women should get screened for colorectal cancer.  Join the following panel of experts for a discussion on prevention\, treatment and family history:  David Ondrula M.D.\, colorectal surgeon with Advocate Good Shepherd Hospital\, will discuss colon cancer screening and the latest in medical and surgical treatments for colon cancer.  Shelly Galasinski\, gentic counselor\, will discuss genetic testing and screening for those with a strong family history.  Gretchen Vanderbosch\, registered dietitian will explain how you can lower your risk by taking charge of the risk factors that can be controlled\, such as diet and exercise
LOCATION:Advocate Good Shepherd Hospital Prairie Room
UID:e.138.484
SEQUENCE:3
DTSTAMP:20260424T151525Z
URL:https://business.carygrovechamber.com/events/details/understanding-the-prevention-of-colorectal-cancer-09-30-2009-484
END:VEVENT

END:VCALENDAR
