BEGIN:VCALENDAR
VERSION:2.0
PRODID:-//ChamberMaster//Event Calendar 2.0//EN
METHOD:PUBLISH
X-PUBLISHED-TTL:P3D
REFRESH-INTERVAL:P3D
CALSCALE:GREGORIAN
BEGIN:VEVENT
DTSTART:20090502T003000Z
DTEND:20090502T023000Z
X-MICROSOFT-CDO-ALLDAYEVENT:FALSE
SUMMARY:Vicki Lawrence and Mama
DESCRIPTION:Emmy Award winning comedienne Vicki Lawrence brings her most endearing character\, Themla Harper (or "Mama" from "Mama's Family") to Raue Center for an entertaining night of comedy.
X-ALT-DESC;FMTTYPE=text/html:Emmy Award winning comedienne Vicki Lawrence brings her most endearing character\, Themla Harper (or "Mama" from "Mama's Family") to Raue Center for an entertaining night of comedy.
LOCATION:Raue Center For The Arts 26 N. Williams Street Crystal Lake\, IL 60014
UID:e.138.443
SEQUENCE:3
DTSTAMP:20260424T214700Z
URL:https://business.carygrovechamber.com/events/details/vicki-lawrence-and-mama-05-01-2009-443
END:VEVENT

END:VCALENDAR
