BEGIN:VCALENDAR
VERSION:2.0
PRODID:-//ChamberMaster//Event Calendar 2.0//EN
METHOD:PUBLISH
X-PUBLISHED-TTL:P3D
REFRESH-INTERVAL:P3D
CALSCALE:GREGORIAN
BEGIN:VEVENT
DTSTART;VALUE=DATE:20091027
DTEND;VALUE=DATE:20091028
TRANSP:TRANSPARENT
X-MICROSOFT-CDO-ALLDAYEVENT:TRUE
SUMMARY:Video Networking Class - Conferencing\, Calling and Video Marketing Online
DESCRIPTION:Video Networking - Conferencing\, Calling and Video Marketing OnlineSpeaker: Jeff Hoffman\, Applied Computer TechnologiesTuesday\, October 27 from 11:30 a.m. to 1:00 p.m.FRG Village Hall\, 305 Illinois St.\, FRG$10 members\, $20 non-membersBox Lunch Included Learn how to conduct a video conference\, communicate with customers online through video and how to incorporate video online or on your website to market your business.  Reservations are required\, call the Chamber at (847) 639-2800 to reserve your spot.
X-ALT-DESC;FMTTYPE=text/html:<div><div><font color="#0000ff" size="2"><strong>Video Networking - Conferencing\, Calling and Video Marketing&nbsp\;Online</strong></font></div><div><strong>Speaker: Jeff Hoffman\, Applied Computer Technologies</strong></div><div><strong>Tuesday\, October 27 from 11:30 a.m. to 1:00 p.m.</strong></div><div>FRG Village Hall\, 305 Illinois St.\, FRG</div><div>$10 members\, $20 non-members</div><div>Box Lunch Included</div><div>&nbsp\;</div><div><p class="MsoNormal" style="line-height: 14.4pt\; margin: 0in 0in 0pt"><span style="font-family: Arial\; color: black\; font-size: 11pt\; mso-bidi-font-size: 12.0pt">Learn how to conduct a video conference\, communicate with customers online through video and how to incorporate video online or on your website to market your business.<span style="mso-spacerun: yes">&nbsp\;&nbsp\;</span>Reservations are required\,&nbsp\;call the Chamber at (847) 639-2800 to reserve your spot.<o:p></o:p></span></p></div></div>
LOCATION:FRG Village Hall305 Illinois St.\, FRG
UID:e.138.544
SEQUENCE:3
DTSTAMP:20260424T140252Z
URL:https://business.carygrovechamber.com/events/details/video-networking-class-conferencing-calling-and-video-marketing-online-10-27-2009-544
END:VEVENT

END:VCALENDAR
