BEGIN:VCALENDAR
VERSION:2.0
PRODID:-//ChamberMaster//Event Calendar 2.0//EN
METHOD:PUBLISH
X-PUBLISHED-TTL:P3D
REFRESH-INTERVAL:P3D
CALSCALE:GREGORIAN
BEGIN:VEVENT
DTSTART:20071129T000000Z
DTEND:20071129T020000Z
X-MICROSOFT-CDO-ALLDAYEVENT:FALSE
SUMMARY:Visit with Santa
DESCRIPTION:Santa will be visiting Cary to hear your child's wish list. Don't forget your camera to capture the memories.
X-ALT-DESC;FMTTYPE=text/html:Santa will be visiting Cary to hear your child's wish list. Don't forget your camera to capture the memories.
LOCATION:Foxford Hills Golf Club\, 6800 S. Rawson Bridge Road\, Cary
UID:e.138.116
SEQUENCE:3
DTSTAMP:20260426T011347Z
URL:https://business.carygrovechamber.com/events/details/visit-with-santa-11-28-2007-116
END:VEVENT

END:VCALENDAR
