BEGIN:VCALENDAR
VERSION:2.0
PRODID:-//ChamberMaster//Event Calendar 2.0//EN
METHOD:PUBLISH
X-PUBLISHED-TTL:P3D
REFRESH-INTERVAL:P3D
CALSCALE:GREGORIAN
BEGIN:VEVENT
DTSTART;VALUE=DATE:20080420
DTEND;VALUE=DATE:20080421
TRANSP:TRANSPARENT
X-MICROSOFT-CDO-ALLDAYEVENT:TRUE
SUMMARY:Voices in Harmony - Harmony United
DESCRIPTION:This is one of the most unique programs ever by Voices in Harmony. We have invited Singers of United Lands (S.O.U.L.) to join their voices in a one-of-a-kind program with music from around the world. S.O.U.L. is a quartet of singers from widely diverse countries ? Brazil\, Czech Republic\, Georgia and Zimbabwe. Each member brings his or her own national flavor to the music they sing. They will present solos and ensembles from each of their countries\, and will join VIH in music to complement their selections. This will truly be a unique and inspiring event! S.O.U.L will be in residence here for one week\, sharing their music in our local schools.
X-ALT-DESC;FMTTYPE=text/html:This is one of the most unique programs ever by Voices in Harmony. We have invited Singers of United Lands (S.O.U.L.) to join their voices in a one-of-a-kind program with music from around the world. S.O.U.L. is a quartet of singers from widely diverse countries ? Brazil\, Czech Republic\, Georgia and Zimbabwe. Each member brings his or her own national flavor to the music they sing. They will present solos and ensembles from each of their countries\, and will join VIH in music to complement their selections. This will truly be a unique and inspiring event! S.O.U.L will be in residence here for one week\, sharing their music in our local schools.
LOCATION:Raue Center For The Arts 26 N. Williams Street Crystal Lake\, IL 60014
UID:e.138.175
SEQUENCE:3
DTSTAMP:20260425T165519Z
URL:https://business.carygrovechamber.com/events/details/voices-in-harmony-harmony-united-04-20-2008-175
END:VEVENT

END:VCALENDAR
