BEGIN:VCALENDAR
VERSION:2.0
PRODID:-//ChamberMaster//Event Calendar 2.0//EN
METHOD:PUBLISH
X-PUBLISHED-TTL:P3D
REFRESH-INTERVAL:P3D
CALSCALE:GREGORIAN
BEGIN:VEVENT
DTSTART:20091213T220000Z
DTEND:20091214T000000Z
X-MICROSOFT-CDO-ALLDAYEVENT:FALSE
SUMMARY:Voices In Harmony Sing-Along Messiah
DESCRIPTION:Join your voices in harmony with ours in Handel?s great masterwork presented with a 25-piece orchestra\, excellent soloists and projections of beautiful calligraphy by Timothy Botts on the texts being sung. The chorus of McHenry County College will supplement the on-stage choir leading the audience.
X-ALT-DESC;FMTTYPE=text/html:Join your voices in harmony with ours in Handel?s great masterwork presented with a 25-piece orchestra\, excellent soloists and projections of beautiful calligraphy by Timothy Botts on the texts being sung. The chorus of McHenry County College will supplement the on-stage choir leading the audience.
LOCATION:Raue Center For The Arts 26 North Williams Street Crystal Lake\, IL 60014
UID:e.138.643
SEQUENCE:3
DTSTAMP:20260424T125728Z
URL:https://business.carygrovechamber.com/events/details/voices-in-harmony-sing-along-messiah-12-13-2009-643
END:VEVENT

END:VCALENDAR
