BEGIN:VCALENDAR
VERSION:2.0
PRODID:-//ChamberMaster//Event Calendar 2.0//EN
METHOD:PUBLISH
X-PUBLISHED-TTL:P3D
REFRESH-INTERVAL:P3D
CALSCALE:GREGORIAN
BEGIN:VEVENT
DTSTART;VALUE=DATE:20091219
DTEND;VALUE=DATE:20091220
TRANSP:TRANSPARENT
X-MICROSOFT-CDO-ALLDAYEVENT:TRUE
SUMMARY:Walgreens Santa Photo Shoot
DESCRIPTION:The Walgreens in Cary and Fox River Grove will be hosting a Santa Photo Shoot on Saturday\, December 19 from 9 a.m. to 12 noon at the Cary Walgreens\, and from 12:30 to 2:30 p.m. at the Fox River Grove Walgreens.  There will be a $3 sitting fee and includes a FREE 5x7 picture.  For more information\, contact Brian Hall at 500 Northwest Hwy. in Cary\, (847)516-0891 or Jason Bodam at 900 Northwest Hwy in FRG\, (847) 639-0376.  Location details can be found at www.walgreens.com.
X-ALT-DESC;FMTTYPE=text/html:<div><p class="MsoNormal" style="line-height: 14.4pt\; margin: 0in 0in 0pt"><span style="font-family: Arial\; color: black\; font-size: 11pt\; mso-font-kerning: 1.0pt\; mso-bidi-font-size: 12.0pt">The <b style="mso-bidi-font-weight: normal">Walgreens in Cary and Fox River Grove</b> will be hosting a Santa Photo Shoot on Saturday\, </span><st1:personname><span style="font-family: Arial\; color: black\; font-size: 11pt\; mso-font-kerning: 1.0pt\; mso-bidi-font-size: 12.0pt">Dec</span></st1:personname><span style="font-family: Arial\; color: black\; font-size: 11pt\; mso-font-kerning: 1.0pt\; mso-bidi-font-size: 12.0pt">ember 19 from </span><st1:time minute="0" hour="9"><span style="font-family: Arial\; color: black\; font-size: 11pt\; mso-font-kerning: 1.0pt\; mso-bidi-font-size: 12.0pt">9 a.m.</span></st1:time><span style="font-family: Arial\; color: black\; font-size: 11pt\; mso-font-kerning: 1.0pt\; mso-bidi-font-size: 12.0pt"> to </span><st1:time minute="0" hour="12"><span style="font-family: Arial\; color: black\; font-size: 11pt\; mso-font-kerning: 1.0pt\; mso-bidi-font-size: 12.0pt">12 noon</span></st1:time><span style="font-family: Arial\; color: black\; font-size: 11pt\; mso-font-kerning: 1.0pt\; mso-bidi-font-size: 12.0pt"> at the Cary Walgreens\, and from </span><st1:time minute="30" hour="12"><span style="font-family: Arial\; color: black\; font-size: 11pt\; mso-font-kerning: 1.0pt\; mso-bidi-font-size: 12.0pt">12:30</span></st1:time><span style="font-family: Arial\; color: black\; font-size: 11pt\; mso-font-kerning: 1.0pt\; mso-bidi-font-size: 12.0pt"> to </span><st1:time minute="30" hour="14"><span style="font-family: Arial\; color: black\; font-size: 11pt\; mso-font-kerning: 1.0pt\; mso-bidi-font-size: 12.0pt">2:30 p.m.</span></st1:time><span style="font-family: Arial\; color: black\; font-size: 11pt\; mso-font-kerning: 1.0pt\; mso-bidi-font-size: 12.0pt"> at the <span class="yshortcuts">Fox River Grove</span> Walgreens.&nbsp\; There will be a $3 sitting fee and includes a </span><st1:stockticker><span style="font-family: Arial\; color: black\; font-size: 11pt\; mso-font-kerning: 1.0pt\; mso-bidi-font-size: 12.0pt">FREE</span></st1:stockticker><span style="font-family: Arial\; color: black\; font-size: 11pt\; mso-font-kerning: 1.0pt\; mso-bidi-font-size: 12.0pt"> 5x7 picture.&nbsp\; For more information\, contact <span class="yshortcuts"><b style="mso-bidi-font-weight: normal">Brian Hall</b></span> at </span><st1:street><st1:address><span style="font-family: Arial\; color: black\; font-size: 11pt\; mso-font-kerning: 1.0pt\; mso-bidi-font-size: 12.0pt">500 Northwest Hwy.</span></st1:address></st1:street><span style="font-family: Arial\; color: black\; font-size: 11pt\; mso-font-kerning: 1.0pt\; mso-bidi-font-size: 12.0pt"> in </span><st1:city><st1:place><span style="font-family: Arial\; color: black\; font-size: 11pt\; mso-font-kerning: 1.0pt\; mso-bidi-font-size: 12.0pt">Cary</span></st1:place></st1:city><span style="font-family: Arial\; color: black\; font-size: 11pt\; mso-font-kerning: 1.0pt\; mso-bidi-font-size: 12.0pt">\, <span class="yshortcuts">(847)516-0891</span> or <b style="mso-bidi-font-weight: normal">Jason Bodam</b> at </span><st1:street><st1:address><span style="font-family: Arial\; color: black\; font-size: 11pt\; mso-font-kerning: 1.0pt\; mso-bidi-font-size: 12.0pt">900 Northwest Hwy</span></st1:address></st1:street><span style="font-family: Arial\; color: black\; font-size: 11pt\; mso-font-kerning: 1.0pt\; mso-bidi-font-size: 12.0pt"> in </span><st1:stockticker><span style="font-family: Arial\; color: black\; font-size: 11pt\; mso-font-kerning: 1.0pt\; mso-bidi-font-size: 12.0pt">FRG</span></st1:stockticker><span style="font-family: Arial\; color: black\; font-size: 11pt\; mso-font-kerning: 1.0pt\; mso-bidi-font-size: 12.0pt">\, <span class="yshortcuts">(847) 639-0376</span>.&nbsp\; Location details can be found at <a href="http://www.walgreens.com/" target="_blank"><span class="yshortcuts"><span style="color: black\; text-decoration: none\; text-underline: none">www.walgreens.com</span></span></a>.<o:p></o:p></span></p></div>
LOCATION:Cary Walgreens500 Northwest Hwy. in Cary Fox River Grove Walgreens900 Northwest Hwy in FRG
UID:e.138.672
SEQUENCE:3
DTSTAMP:20260424T124845Z
URL:https://business.carygrovechamber.com/events/details/walgreens-santa-photo-shoot-12-19-2009-672
END:VEVENT

END:VCALENDAR
