BEGIN:VCALENDAR
VERSION:2.0
PRODID:-//ChamberMaster//Event Calendar 2.0//EN
METHOD:PUBLISH
X-PUBLISHED-TTL:P3D
REFRESH-INTERVAL:P3D
CALSCALE:GREGORIAN
BEGIN:VEVENT
DTSTART:20080814T210000Z
DTEND:20080815T010000Z
X-MICROSOFT-CDO-ALLDAYEVENT:FALSE
SUMMARY:Western Day Open House at The Goddard School
DESCRIPTION:The Goddard School will be hosting a 'Western Day' Open House\, Thursday\, August 14 from 4 to 8 pm.  Tour their school\, meet their teachers and enjoy the fun activities and petting zoo.  Snacks and drinks will be provided for children and parents.   The Goddard School is located at 801 Georgetown Drive\, Cary and can be reached by calling (847) 639-1160
X-ALT-DESC;FMTTYPE=text/html:<p class="MsoNormal" style="margin: 0in 0in 0pt"><span style="font-size: 11pt\; font-family: &quot\;Arial&quot\;\,&quot\;sans-serif&quot\;">The Goddard School will be hosting a 'Western Day' Open House\, Thursday\, August 14 from 4 to 8 pm. &nbsp\;Tour their school\, meet their teachers and enjoy the fun activities and petting zoo. &nbsp\;Snacks and drinks will be provided for children and parents. &nbsp\;&nbsp\;The Goddard School is located at&nbsp\;801 Georgetown Drive\, Cary and can be reached by calling (847) 639-1160<o:p></o:p></span></p><p class="MsoNormal" style="margin: 0in 0in 0pt\; text-align: left" align="left"><strong style="mso-bidi-font-weight: normal"><span style="font-size: 12pt\; font-family: &quot\;Arial&quot\;\,&quot\;sans-serif&quot\;"><o:p>&nbsp\;</o:p></span></strong></p>
LOCATION:The Goddard School is located at 801 Georgetown Drive\, Cary
UID:e.138.293
SEQUENCE:3
DTSTAMP:20260425T105259Z
URL:https://business.carygrovechamber.com/events/details/western-day-open-house-at-the-goddard-school-08-14-2008-293
END:VEVENT

END:VCALENDAR
