BEGIN:VCALENDAR
VERSION:2.0
PRODID:-//ChamberMaster//Event Calendar 2.0//EN
METHOD:PUBLISH
X-PUBLISHED-TTL:P3D
REFRESH-INTERVAL:P3D
CALSCALE:GREGORIAN
BEGIN:VEVENT
DTSTART:20070517T170000Z
DTEND:20070517T180000Z
X-MICROSOFT-CDO-ALLDAYEVENT:FALSE
SUMMARY:''What Creditors Can Do When Customers Go Bankrupt!''
DESCRIPTION:Speaker Tim Culbertson of Morgan & Bley\, Ltd. will help you learn more about:\n\nBankruptcy rules and the creditor's role\nWhat you can expect when pursuing claims\nHow to maximize your collection potential
X-ALT-DESC;FMTTYPE=text/html:Speaker Tim Culbertson of Morgan &amp\; Bley\, Ltd. will help you learn more about:<br /><br />Bankruptcy rules and the creditor's role<br />What you can expect when pursuing claims<br />How to maximize your collection potential
LOCATION:Fox River Grove Village Hall\, 305 Illinois Street
UID:e.138.65
SEQUENCE:3
DTSTAMP:20260425T214908Z
URL:https://business.carygrovechamber.com/events/details/what-creditors-can-do-when-customers-go-bankrupt-05-17-2007-65
END:VEVENT

END:VCALENDAR
