BEGIN:VCALENDAR
VERSION:2.0
PRODID:-//ChamberMaster//Event Calendar 2.0//EN
METHOD:PUBLISH
X-PUBLISHED-TTL:P3D
REFRESH-INTERVAL:P3D
CALSCALE:GREGORIAN
BEGIN:VEVENT
DTSTART:20080220T003000Z
DTEND:20080220T020000Z
X-MICROSOFT-CDO-ALLDAYEVENT:FALSE
SUMMARY:What is Peripheral Artery Disease and Why is it Important?
DESCRIPTION:Peripheral Artery Disease (PAD) is a disease that\, if left undetected\, can lead to a stroke or heart attack.  PAD affects millions of people in the United States\, most of which are not aware they have the disase.  Cardiologist\, Irene Staicu\, M.D. Will explain some of the early warning signs of PAD and what you can do to identify your risks.  Class Code:  3G34
X-ALT-DESC;FMTTYPE=text/html:Peripheral Artery Disease (PAD) is a disease that\, if left undetected\, can lead to a stroke or heart attack.  PAD affects millions of people in the United States\, most of which are not aware they have the disase.  Cardiologist\, Irene Staicu\, M.D. Will explain some of the early warning signs of PAD and what you can do to identify your risks.  Class Code:  3G34
LOCATION:Good Shepherd Hospital 450 Highway 22 Prairie Room Barrington\, IL 60010
UID:e.138.189
SEQUENCE:3
DTSTAMP:20260425T181220Z
URL:https://business.carygrovechamber.com/events/details/what-is-peripheral-artery-disease-and-why-is-it-important-02-19-2008-189
END:VEVENT

END:VCALENDAR
