BEGIN:VCALENDAR
VERSION:2.0
PRODID:-//ChamberMaster//Event Calendar 2.0//EN
METHOD:PUBLISH
X-PUBLISHED-TTL:P3D
REFRESH-INTERVAL:P3D
CALSCALE:GREGORIAN
BEGIN:VEVENT
DTSTART:20091124T003000Z
DTEND:20091124T020000Z
X-MICROSOFT-CDO-ALLDAYEVENT:FALSE
SUMMARY:What You Need To Know About Cardiac Vascular Risk and Diabetes
DESCRIPTION:According to the American Heart Association\, people with diabetes are two to four times more likely to develop cardiovascular disease due to risk factors such as high blood pressure\, high cholesterol\, smoking\, obestiy\, lack of physcial activity and poorly controlled blood sugar.  Join Michael Fortsas\, MD\, board certified cardiologist with Northwest Cardiology Associates\, for an in-depth discussion on the impact of these risk factors and what can be done to reduce them.
X-ALT-DESC;FMTTYPE=text/html:According to the American Heart Association\, people with diabetes are two to four times more likely to develop cardiovascular disease due to risk factors such as high blood pressure\, high cholesterol\, smoking\, obestiy\, lack of physcial activity and poorly controlled blood sugar.  Join Michael Fortsas\, MD\, board certified cardiologist with Northwest Cardiology Associates\, for an in-depth discussion on the impact of these risk factors and what can be done to reduce them.
LOCATION:Advocate Good Shepherd Hospital Prairie Room
UID:e.138.621
SEQUENCE:3
DTSTAMP:20260424T140607Z
URL:https://business.carygrovechamber.com/events/details/what-you-need-to-know-about-cardiac-vascular-risk-and-diabetes-11-23-2009-621
END:VEVENT

END:VCALENDAR
