BEGIN:VCALENDAR
VERSION:2.0
PRODID:-//ChamberMaster//Event Calendar 2.0//EN
METHOD:PUBLISH
X-PUBLISHED-TTL:P3D
REFRESH-INTERVAL:P3D
CALSCALE:GREGORIAN
BEGIN:VEVENT
DTSTART:20091124T003000Z
DTEND:20091124T020000Z
X-MICROSOFT-CDO-ALLDAYEVENT:FALSE
SUMMARY:What You Need to Know: Cardiac Vascular Risk and Diabetes
DESCRIPTION:According to the American Heart Organization\, people with diabetes are two to four times more likely to develop cardiovascular disease due to a variety of risk factors\, including blood pressure\, high cholesterol\, smoling\, obesity\, lack of physical activity and poorly controlled blood sugar.  Michael Fortsas\, M.D.\, board ceritified cardiologist with Northwest Cardiology Associates will share the impact of these risk factors and what you can do to reduce your risk of developing these diseases.  A light meal will be served.
X-ALT-DESC;FMTTYPE=text/html:According to the American Heart Organization\, people with diabetes are two to four times more likely to develop cardiovascular disease due to a variety of risk factors\, including blood pressure\, high cholesterol\, smoling\, obesity\, lack of physical activity and poorly controlled blood sugar.  Michael Fortsas\, M.D.\, board ceritified cardiologist with Northwest Cardiology Associates will share the impact of these risk factors and what you can do to reduce your risk of developing these diseases.  A light meal will be served.\n
LOCATION:Advocate Good Shepherd Hospital 450 W. Highway 22 Barrington\, IL 60010
UID:e.138.607
SEQUENCE:3
DTSTAMP:20260424T141226Z
URL:https://business.carygrovechamber.com/events/details/what-you-need-to-know-cardiac-vascular-risk-and-diabetes-11-23-2009-607
END:VEVENT

END:VCALENDAR
