BEGIN:VCALENDAR
VERSION:2.0
PRODID:-//ChamberMaster//Event Calendar 2.0//EN
METHOD:PUBLISH
X-PUBLISHED-TTL:P3D
REFRESH-INTERVAL:P3D
CALSCALE:GREGORIAN
BEGIN:VEVENT
DTSTART:20080526T153000Z
DTEND:20080526T180000Z
X-MICROSOFT-CDO-ALLDAYEVENT:FALSE
SUMMARY:Windridge Memorial Day Event
DESCRIPTION:Windridge Memorial Park and Nature Sanctuary will be hosting their annual Memorial Day Ceremony to honor all those who have served in the Armed Forces. This year Windridge will have Pastor Stewart Shulz of Holy Cross Lutheran Church leading off the ceremony with opening prayers. The Naval base will be in attendance with Keynote Speaker Major Christopher Gros. Cemetery staff will be available to answer any questions you may have. Light refreshments will be available.
X-ALT-DESC;FMTTYPE=text/html:Windridge Memorial Park and Nature Sanctuary will be hosting their annual Memorial Day Ceremony to honor all those who have served in the Armed Forces. This year Windridge will have Pastor Stewart Shulz of Holy Cross Lutheran Church leading off the ceremony with opening prayers. The Naval base will be in attendance with Keynote Speaker Major Christopher Gros. Cemetery staff will be available to answer any questions you may have. Light refreshments will be available.
LOCATION:Windridge Memorial Park Veterans Section 7014 S. Rawson Bridge Road Cary IL.
UID:e.138.227
SEQUENCE:3
DTSTAMP:20260425T152512Z
URL:https://business.carygrovechamber.com/events/details/windridge-memorial-day-event-05-26-2008-227
END:VEVENT

END:VCALENDAR
