BEGIN:VCALENDAR
VERSION:2.0
PRODID:-//ChamberMaster//Event Calendar 2.0//EN
METHOD:PUBLISH
X-PUBLISHED-TTL:P3D
REFRESH-INTERVAL:P3D
CALSCALE:GREGORIAN
BEGIN:VEVENT
DTSTART;VALUE=DATE:20100131
DTEND;VALUE=DATE:20100201
TRANSP:TRANSPARENT
X-MICROSOFT-CDO-ALLDAYEVENT:TRUE
SUMMARY:Wine & Cheese Event - Orchard Prime Meats & Wine Shoppe
DESCRIPTION:Orchard Prime Meats & Wine Shoppe is having a Trattoria Wine and Cheese Pairing with Antonio Zaccheo\, Tenuta de Carpineto\, Tuscana\, Italy on Sunday\, January 31at 6:00 p.m. at their store\, 133 W. Main Street in Cary. Featuring Tuscan wines of Carpineto and paired with classic cheese dishes prepared by Chef Stephan\, as well as Jon's mascarpone crepes and poached pears with gorgonzola! Cost is $35 per person\, plus tax and gratuity. Reservations required\, call (847) 639-3991.
X-ALT-DESC;FMTTYPE=text/html:<div><div style="line-height: 14.4pt\; margin: 0in 0in 0pt"><b><span style="color: black\; font-size: 11pt">Orchard Prime Meats &amp\; Wine Shoppe</span></b><span style="color: black\; font-size: 11pt"> is having a Trattoria Wine and Cheese Pairing with Antonio Zaccheo\, Tenuta de Carpineto\, Tuscana\, Italy on Sunday\, January 31at 6:00 p.m. at their store\, 133 W. Main Street in Cary.&nbsp\;Featuring Tuscan wines of Carpineto and paired with classic cheese dishes prepared by Chef Stephan\, as well as Jon&rsquo\;s mascarpone crepes and poached pears with gorgonzola!&nbsp\;</span><span style="color: black\; font-size: 11pt">Cost is $35 per person\, plus tax and gratuity.&nbsp\;Reservations required\, call (847) 639-3991.</span></div></div>
LOCATION:Orchard Prime Meats & Wine Shoppe 133 W. Main Street in Cary
UID:e.138.723
SEQUENCE:3
DTSTAMP:20260424T113412Z
URL:https://business.carygrovechamber.com/events/details/wine-cheese-event-orchard-prime-meats-wine-shoppe-01-31-2010-723
END:VEVENT

END:VCALENDAR
