BEGIN:VCALENDAR
VERSION:2.0
PRODID:-//ChamberMaster//Event Calendar 2.0//EN
METHOD:PUBLISH
X-PUBLISHED-TTL:P3D
REFRESH-INTERVAL:P3D
CALSCALE:GREGORIAN
BEGIN:VEVENT
DTSTART;VALUE=DATE:20091219
DTEND;VALUE=DATE:20091220
TRANSP:TRANSPARENT
X-MICROSOFT-CDO-ALLDAYEVENT:TRUE
SUMMARY:Wine Tasting and Orchard Prime Meats & Wine Shoppe
DESCRIPTION:Orchard Prime Meats & Wine Shoppe is having a Christmas Wine Tasting and Open House on Saturday\, December 19 from 12 noon to 4 p.m.  Come taste some great wines for the holidays and sample several of their finest cheeses.  All wines sampled will be on sale at 15% off retail price. Holiday Hours are Christmas Eve   9.m. to 12 noon\, New Year's Eve   9 a.m. to 6 p.m.\, Christmas Day and New Year's Day   Closed.  The restaurant\, Tapas Calpe\, will be closed on Christmas Eve\, Christmas Day and New Year's Day and on New Year's Eve will be open from 5 to 9 p.m. Normal tapas menu will be served along with New Year's Eve entree specials featuring Prime Filet Mignon and Australian Cold Water Lobster Tail.  Make reservations early for New Year's Eve Dinner. They are located in downtown Cary at 133 W. Main Street.  To reach them\, call (847) 639-3991.
X-ALT-DESC;FMTTYPE=text/html:<div><p class="MsoNormal" style="line-height: 14.4pt\; margin: 0in 0in 0pt"><b style="mso-bidi-font-weight: normal"><span style="font-family: Arial\; color: black\; font-size: 11pt\; mso-bidi-font-size: 12.0pt\; mso-bidi-font-family: &rsquo\;Times New Roman&rsquo\;">Orchard Prime Meats &amp\; Wine Shoppe</span></b><span style="font-family: Arial\; color: black\; font-size: 11pt\; mso-bidi-font-size: 12.0pt\; mso-bidi-font-family: &rsquo\;Times New Roman&rsquo\;"> is having a Christmas Wine Tasting and Open House on Saturday\, </span><st1:personname><span style="font-family: Arial\; color: black\; font-size: 11pt\; mso-bidi-font-size: 12.0pt\; mso-bidi-font-family: &rsquo\;Times New Roman&rsquo\;">Dec</span></st1:personname><span style="font-family: Arial\; color: black\; font-size: 11pt\; mso-bidi-font-size: 12.0pt\; mso-bidi-font-family: &rsquo\;Times New Roman&rsquo\;">ember 19 from </span><st1:time hour="12" minute="0"><span style="font-family: Arial\; color: black\; font-size: 11pt\; mso-bidi-font-size: 12.0pt\; mso-bidi-font-family: &rsquo\;Times New Roman&rsquo\;">12 noon</span></st1:time><span style="font-family: Arial\; color: black\; font-size: 11pt\; mso-bidi-font-size: 12.0pt\; mso-bidi-font-family: &rsquo\;Times New Roman&rsquo\;"> to </span><st1:time hour="16" minute="0"><span style="font-family: Arial\; color: black\; font-size: 11pt\; mso-bidi-font-size: 12.0pt\; mso-bidi-font-family: &rsquo\;Times New Roman&rsquo\;">4 p.m.</span></st1:time><span style="font-family: Arial\; color: black\; font-size: 11pt\; mso-bidi-font-size: 12.0pt\; mso-bidi-font-family: &rsquo\;Times New Roman&rsquo\;"><span style="mso-spacerun: yes">&nbsp\; </span>Come taste some great wines for the holidays and sample several of their finest cheeses.&nbsp\; All wines sampled will be on sale at 15% off retail price. Holiday Hours are Christmas Eve &ndash\; 9.m. to </span><st1:time hour="12" minute="0"><span style="font-family: Arial\; color: black\; font-size: 11pt\; mso-bidi-font-size: 12.0pt\; mso-bidi-font-family: &rsquo\;Times New Roman&rsquo\;">12 noon</span></st1:time><span style="font-family: Arial\; color: black\; font-size: 11pt\; mso-bidi-font-size: 12.0pt\; mso-bidi-font-family: &rsquo\;Times New Roman&rsquo\;">\, New Year&rsquo\;s Eve &ndash\; </span><st1:time hour="9" minute="0"><span style="font-family: Arial\; color: black\; font-size: 11pt\; mso-bidi-font-size: 12.0pt\; mso-bidi-font-family: &rsquo\;Times New Roman&rsquo\;">9 a.m. to 6 p.m.</span></st1:time><span style="font-family: Arial\; color: black\; font-size: 11pt\; mso-bidi-font-size: 12.0pt\; mso-bidi-font-family: &rsquo\;Times New Roman&rsquo\;">\, Christmas Day and New Year&rsquo\;s Day &ndash\; Closed.<span style="mso-spacerun: yes">&nbsp\; </span>The restaurant\, Tapas Calpe\, will be closed on Christmas Eve\, Christmas Day and New Year&rsquo\;s Day and on New Year&rsquo\;s Eve will be open from </span><st1:time hour="17" minute="0"><span style="font-family: Arial\; color: black\; font-size: 11pt\; mso-bidi-font-size: 12.0pt\; mso-bidi-font-family: &rsquo\;Times New Roman&rsquo\;">5</span></st1:time><span style="font-family: Arial\; color: black\; font-size: 11pt\; mso-bidi-font-size: 12.0pt\; mso-bidi-font-family: &rsquo\;Times New Roman&rsquo\;"> to </span><st1:time hour="21" minute="0"><span style="font-family: Arial\; color: black\; font-size: 11pt\; mso-bidi-font-size: 12.0pt\; mso-bidi-font-family: &rsquo\;Times New Roman&rsquo\;">9 p.m.</span></st1:time><span style="font-family: Arial\; color: black\; font-size: 11pt\; mso-bidi-font-size: 12.0pt\; mso-bidi-font-family: &rsquo\;Times New Roman&rsquo\;"> </span><st1:place><span style="font-family: Arial\; color: black\; font-size: 11pt\; mso-bidi-font-size: 12.0pt\; mso-bidi-font-family: &rsquo\;Times New Roman&rsquo\;">Normal</span></st1:place><span style="font-family: Arial\; color: black\; font-size: 11pt\; mso-bidi-font-size: 12.0pt\; mso-bidi-font-family: &rsquo\;Times New Roman&rsquo\;"> tapas menu will be served along with New Year&rsquo\;s Eve entree specials featuring Prime Filet Mignon and Australian Cold Water Lobster Tail.<span style="mso-spacerun: yes">&nbsp\; </span>Make reservations early for New Year&rsquo\;s Eve Dinner. They are located in downtown </span><st1:city><st1:place><span style="font-family: Arial\; color: black\; font-size: 11pt\; mso-bidi-font-size: 12.0pt\; mso-bidi-font-family: &rsquo\;Times New Roman&rsquo\;">Cary</span></st1:place></st1:city><span style="font-family: Arial\; color: black\; font-size: 11pt\; mso-bidi-font-size: 12.0pt\; mso-bidi-font-family: &rsquo\;Times New Roman&rsquo\;"> at </span><st1:street><st1:address><span style="font-family: Arial\; color: black\; font-size: 11pt\; mso-bidi-font-size: 12.0pt\; mso-bidi-font-family: &rsquo\;Times New Roman&rsquo\;">133 W. Main Street</span></st1:address></st1:street><span style="font-family: Arial\; color: black\; font-size: 11pt\; mso-bidi-font-size: 12.0pt\; mso-bidi-font-family: &rsquo\;Times New Roman&rsquo\;">.<span style="mso-spacerun: yes">&nbsp\; </span>To reach them\, call (847) 639-3991.<o:p></o:p></span></p></div>
LOCATION:Downtown Cary at 133 W. Main Street
UID:e.138.673
SEQUENCE:3
DTSTAMP:20260424T125149Z
URL:https://business.carygrovechamber.com/events/details/wine-tasting-and-orchard-prime-meats-wine-shoppe-12-19-2009-673
END:VEVENT

END:VCALENDAR
