BEGIN:VCALENDAR
VERSION:2.0
PRODID:-//ChamberMaster//Event Calendar 2.0//EN
METHOD:PUBLISH
X-PUBLISHED-TTL:P3D
REFRESH-INTERVAL:P3D
CALSCALE:GREGORIAN
BEGIN:VEVENT
DTSTART;VALUE=DATE:20100327
DTEND;VALUE=DATE:20100328
TRANSP:TRANSPARENT
X-MICROSOFT-CDO-ALLDAYEVENT:TRUE
SUMMARY:Wine Tasting at High Road Events
DESCRIPTION:High Road Events and Armanetti's are having a wine tasting on Saturday\, March 27 from 6:30 to 10 p.m. at High Road Events\, located at 22 High Road in Cary.  Join them for a night of wining and dining.  Pre-registration cost is $20 and includes wine and hors d' oeuvres\, otherwise it's $25 at the door.  To reserve your spot\, and for more information\, call Kristine Ensor at (847) 542-1378.
X-ALT-DESC;FMTTYPE=text/html:<div><h1 style="margin: 0in 0in 0pt"><font size="3"><span style="font-family: Arial\; mso-bidi-font-family: &rsquo\;Times New Roman&rsquo\;"><o:p></o:p></span></font><b style="mso-bidi-font-weight: normal"><span style="font-family: Arial\; color: black\; font-size: 11pt\; mso-bidi-font-family: &rsquo\;Times New Roman&rsquo\;\; mso-font-kerning: 1.0pt\; mso-bidi-font-size: 12.0pt">High Road Events </span></b><span style="font-family: Arial\; color: black\; font-size: 11pt\; mso-bidi-font-family: &rsquo\;Times New Roman&rsquo\;\; mso-font-kerning: 1.0pt\; mso-bidi-font-size: 12.0pt">and <b style="mso-bidi-font-weight: normal">Armanetti&rsquo\;s </b>are having a wine tasting on Saturday\, March 27 from </span><st1:time minute="30" hour="18"><span style="font-family: Arial\; color: black\; font-size: 11pt\; mso-bidi-font-family: &rsquo\;Times New Roman&rsquo\;\; mso-font-kerning: 1.0pt\; mso-bidi-font-size: 12.0pt">6:30</span></st1:time><span style="font-family: Arial\; color: black\; font-size: 11pt\; mso-bidi-font-family: &rsquo\;Times New Roman&rsquo\;\; mso-font-kerning: 1.0pt\; mso-bidi-font-size: 12.0pt"> to </span><st1:time minute="0" hour="22"><span style="font-family: Arial\; color: black\; font-size: 11pt\; mso-bidi-font-family: &rsquo\;Times New Roman&rsquo\;\; mso-font-kerning: 1.0pt\; mso-bidi-font-size: 12.0pt">10 p.m.</span></st1:time><span style="font-family: Arial\; color: black\; font-size: 11pt\; mso-bidi-font-family: &rsquo\;Times New Roman&rsquo\;\; mso-font-kerning: 1.0pt\; mso-bidi-font-size: 12.0pt"> at High Road Events\, located at </span><st1:street><st1:address><span style="font-family: Arial\; color: black\; font-size: 11pt\; mso-bidi-font-family: &rsquo\;Times New Roman&rsquo\;\; mso-font-kerning: 1.0pt\; mso-bidi-font-size: 12.0pt">22 High Road</span></st1:address></st1:street><span style="font-family: Arial\; color: black\; font-size: 11pt\; mso-bidi-font-family: &rsquo\;Times New Roman&rsquo\;\; mso-font-kerning: 1.0pt\; mso-bidi-font-size: 12.0pt"> in </span><st1:city><st1:place><span style="font-family: Arial\; color: black\; font-size: 11pt\; mso-bidi-font-family: &rsquo\;Times New Roman&rsquo\;\; mso-font-kerning: 1.0pt\; mso-bidi-font-size: 12.0pt">Cary</span></st1:place></st1:city><span style="font-family: Arial\; color: black\; font-size: 11pt\; mso-bidi-font-family: &rsquo\;Times New Roman&rsquo\;\; mso-font-kerning: 1.0pt\; mso-bidi-font-size: 12.0pt">.<span style="mso-spacerun: yes">&nbsp\; </span>Join them for a night of wining and dining.<span style="mso-spacerun: yes">&nbsp\; </span>Pre-registration cost is $20 and includes wine and hors d&rsquo\; oeuvres\, otherwise it&rsquo\;s $25 at the door.<span style="mso-spacerun: yes">&nbsp\; </span>To reserve your spot\, and for more information\, call Kristine Ensor at (847) 542-1378.<span style="mso-spacerun: yes">&nbsp\;&nbsp\;&nbsp\; </span><o:p></o:p></span></h1></div>
LOCATION:High Road EventsDowntown Cary22 High Road and Main Street in Cary
UID:e.138.776
SEQUENCE:3
DTSTAMP:20260424T110445Z
URL:https://business.carygrovechamber.com/events/details/wine-tasting-at-high-road-events-03-27-2010-776
END:VEVENT

END:VCALENDAR
