BEGIN:VCALENDAR
VERSION:2.0
PRODID:-//ChamberMaster//Event Calendar 2.0//EN
METHOD:PUBLISH
X-PUBLISHED-TTL:P3D
REFRESH-INTERVAL:P3D
CALSCALE:GREGORIAN
BEGIN:VEVENT
DTSTART:20080412T143000Z
DTEND:20080412T183000Z
X-MICROSOFT-CDO-ALLDAYEVENT:FALSE
SUMMARY:Women Aging Gratefully
DESCRIPTION:Advocate Good Shepherd Hospital presents\n"Women Aging Gratefully"\nBack by popular demand!  Emmy award winner Nancy Alspaugh and Marilyn Kentz entertain you with new insights on midlife and aging.  As the authors of "Not Your Mother's Mid-Life:  A ten-Step Guide to Fearless Aging\," they will bring inspiration\, information and laughter to you and all the women in your life - bring your mother\, sisters\, daughters\, and girlfriends!
X-ALT-DESC;FMTTYPE=text/html:Advocate Good Shepherd Hospital presents\n"Women Aging Gratefully"\nBack by popular demand!  Emmy award winner Nancy Alspaugh and Marilyn Kentz entertain you with new insights on midlife and aging.  As the authors of "Not Your Mother's Mid-Life:  A ten-Step Guide to Fearless Aging\," they will bring inspiration\, information and laughter to you and all the women in your life - bring your mother\, sisters\, daughters\, and girlfriends!
LOCATION:Crystal Lake Holiday Inn 800 South Route 31 Crystal Lake\, IL 60014
UID:e.138.209
SEQUENCE:3
DTSTAMP:20260425T152512Z
URL:https://business.carygrovechamber.com/events/details/women-aging-gratefully-04-12-2008-209
END:VEVENT

END:VCALENDAR
