BEGIN:VCALENDAR
VERSION:2.0
PRODID:-//ChamberMaster//Event Calendar 2.0//EN
METHOD:PUBLISH
X-PUBLISHED-TTL:P3D
REFRESH-INTERVAL:P3D
CALSCALE:GREGORIAN
BEGIN:VEVENT
DTSTART:20090205T230000Z
DTEND:20090206T010000Z
X-MICROSOFT-CDO-ALLDAYEVENT:FALSE
SUMMARY:Women Businesses Mixer and Valentine's Day Shopping Event
DESCRIPTION:Tony V's II\, Silpada Designs consultant Kim Nordin and Amanda Nells of Surprise Parties are hosting a mixer on Thursday\, February 5 from 5 to 7 p.m. at Tony V's II\, located at 6506 Silver Lake Road in Cary. Come out and do some shopping at this Valentine themed event. Enjoy free pizza and soda\, along with a cash bar. To reach Tony V's call (847) 516-0444\, Kim Nordin of Silpada Designs at (847) 829-4298 and Amanda Nells of Surprise Parties at (847) 354-2554.
X-ALT-DESC;FMTTYPE=text/html:<div>Tony V's II\, Silpada Designs consultant Kim Nordin and Amanda Nells of Surprise Parties are hosting a mixer on Thursday\, February 5 from 5 to 7 p.m. at Tony V's II\, located at 6506 Silver Lake Road in Cary. Come out and do some shopping at this Valentine themed event. Enjoy free pizza and soda\, along with a cash bar. To reach Tony V's call (847) 516-0444\, Kim Nordin of Silpada Designs at (847) 829-4298 and Amanda Nells of Surprise Parties at (847) 354-2554.</div>
LOCATION:Tony V's II6506 Silver Lake RoadCary\, IL
UID:e.138.399
SEQUENCE:3
DTSTAMP:20260425T022931Z
URL:https://business.carygrovechamber.com/events/details/women-businesses-mixer-and-valentine-s-day-shopping-event-02-05-2009-399
END:VEVENT

END:VCALENDAR
