BEGIN:VCALENDAR
VERSION:2.0
PRODID:-//ChamberMaster//Event Calendar 2.0//EN
METHOD:PUBLISH
X-PUBLISHED-TTL:P3D
REFRESH-INTERVAL:P3D
CALSCALE:GREGORIAN
BEGIN:VEVENT
DTSTART;VALUE=DATE:20090502
DTEND;VALUE=DATE:20090503
TRANSP:TRANSPARENT
X-MICROSOFT-CDO-ALLDAYEVENT:TRUE
SUMMARY:Women's Event - Tea for Two
DESCRIPTION:Cary Grove Neighborhood Life invites you to their first women's event\, "Tea for Two" on Saturday\, May 2 from 2 - 4 p.m. at the Cary Country Club\, 2400 Grove Lane. Bring a friend! Come meet your neighbors\, get connected on opportunities to serve the community and help raise funds for the new food prep team\, which prepares food for the families in need in Cary Grove. Some of the funds will support the "Feed the Hungry Campaign\," donated to PADS and the Cary Grove Food Pantry. Tickets on sale through April 30 at www.carygrove.org. Call Sue Dunn at (847) 814-1121 for more information.
X-ALT-DESC;FMTTYPE=text/html:<div>Cary Grove Neighborhood Life invites you to their first women's event\, &quot\;Tea for Two&quot\; on Saturday\, May 2 from 2 - 4 p.m. at the Cary Country Club\, 2400 Grove Lane. Bring a friend! Come meet your neighbors\, get connected on opportunities to serve the community and help raise funds for the new food prep team\, which prepares food for the families in need in Cary Grove. Some of the funds will support the &quot\;Feed the Hungry Campaign\,&quot\; donated to PADS and the Cary Grove Food Pantry. Tickets on sale through April 30 at www.carygrove.org. Call Sue Dunn at (847) 814-1121 for more information.</div>
LOCATION:Cary Country Club2400 Grove LaneCary\, IL
UID:e.138.456
SEQUENCE:3
DTSTAMP:20260424T214700Z
URL:https://business.carygrovechamber.com/events/details/women-s-event-tea-for-two-05-02-2009-456
END:VEVENT

END:VCALENDAR
