BEGIN:VCALENDAR
VERSION:2.0
PRODID:-//ChamberMaster//Event Calendar 2.0//EN
METHOD:PUBLISH
X-PUBLISHED-TTL:P3D
REFRESH-INTERVAL:P3D
CALSCALE:GREGORIAN
BEGIN:VEVENT
DTSTART;VALUE=DATE:20090509
DTEND;VALUE=DATE:20090510
TRANSP:TRANSPARENT
X-MICROSOFT-CDO-ALLDAYEVENT:TRUE
SUMMARY:Women's Self Defense Class - AKF Martial Arts
DESCRIPTION:AKF Martial Arts Academy is offering Women's Self Defense\, WISE (Women Initiating Safe Environments) beginning with an introductory class this Saturday\, May 9 from 10 a.m. to 12 noon at 740 McArdle in Crystal Lake. Learn to use your body and your wits. Class size is limited\, so call (815) 455-3888 to reserve your spot. Cost is $20 and family rates are available. Visit www.akf-cl.com for more information.
X-ALT-DESC;FMTTYPE=text/html:<div>AKF Martial Arts Academy is offering Women's&nbsp\;Self Defense\, WISE (Women Initiating Safe Environments) beginning with an introductory class this Saturday\, May 9 from 10 a.m. to 12 noon at 740 McArdle in Crystal Lake. Learn to use your body and your wits. Class size is limited\, so call (815) 455-3888 to reserve your spot. Cost is $20 and family rates are available. Visit www.akf-cl.com for more information.</div>
LOCATION:AKF Martial Arts Academy740 McArdle in Crystal Lake
UID:e.138.464
SEQUENCE:3
DTSTAMP:20260424T215439Z
URL:https://business.carygrovechamber.com/events/details/women-s-self-defense-class-akf-martial-arts-05-09-2009-464
END:VEVENT

END:VCALENDAR
