BEGIN:VCALENDAR
VERSION:2.0
PRODID:-//ChamberMaster//Event Calendar 2.0//EN
METHOD:PUBLISH
X-PUBLISHED-TTL:P3D
REFRESH-INTERVAL:P3D
CALSCALE:GREGORIAN
BEGIN:VEVENT
DTSTART:20190621T010000Z
DTEND:20190621T030000Z
X-MICROSOFT-CDO-ALLDAYEVENT:FALSE
SUMMARY:WSRep Comedy Night
DESCRIPTION:WSRep Comedy Night: Sketch & Improv JUNE 20 @ 8p Tickets are $10 at the door Sketch comedy is Written\, Scripted\, and Rehearsed\, honed through work and time. Improv comedy is Wild\, Spontaneous\, and Real\, on the spot and on the line. WSRep Comedy has brought these two forms together for one glorious\, glamorous\, conglomerate show\, and they hope to bring you in\, too. Tickets: $10 (at the door) Raue Center For The Arts | Lobby Cafe
X-ALT-DESC;FMTTYPE=text/html:WSRep Comedy Night: Sketch &amp\; Improv JUNE 20 @ 8p Tickets are $10 at the door Sketch comedy is Written\, Scripted\, and Rehearsed\, honed through work and time. Improv comedy is Wild\, Spontaneous\, and Real\, on the spot and on the line. WSRep Comedy has brought these two forms together for one glorious\, glamorous\, conglomerate show\, and they hope to bring you in\, too. Tickets: $10 (at the door) Raue Center For The Arts | Lobby Cafe
LOCATION:Raue Center For The Arts | Lobby Cafe
UID:e.138.9830
SEQUENCE:3
DTSTAMP:20260419T180603Z
URL:https://business.carygrovechamber.com/events/details/wsrep-comedy-night-06-20-2019-9830
END:VEVENT

END:VCALENDAR
