BEGIN:VCALENDAR
VERSION:2.0
PRODID:-//ChamberMaster//Event Calendar 2.0//EN
METHOD:PUBLISH
X-PUBLISHED-TTL:P3D
REFRESH-INTERVAL:P3D
CALSCALE:GREGORIAN
BEGIN:VEVENT
DTSTART:20120315T140000Z
DTEND:20120315T220000Z
X-MICROSOFT-CDO-ALLDAYEVENT:FALSE
SUMMARY:Y-ME Barrington Area Breast Cancer Support Group
DESCRIPTION:The Barrington Area Breast Cancer and Lymphedema Support Group will host a lecture on "New Trends in Radiation Therapy for Breast Cancer"  Join Barry Rosen\, MD General Surgery and James Ruffer\, MD\, Medical Director of Radiation Oncology at Advocate Good Shepherd Hospital for this informative lecture.  All are welcome to attend.  To register phone 1-847-842-HUGS
X-ALT-DESC;FMTTYPE=text/html:<p>\n	The Barrington Area Breast Cancer and Lymphedema Support Group will host a lecture on &quot\;New Trends in Radiation Therapy for Breast Cancer&quot\;&nbsp\; Join Barry Rosen\, MD General Surgery and James Ruffer\, MD\, Medical Director of Radiation Oncology at Advocate Good Shepherd Hospital for this informative lecture.&nbsp\; All are welcome to attend.&nbsp\; To register phone 1-847-842-HUGS</p>\n
LOCATION:Advocate Good Shepherd Hospital 450 W. Highway 22\, Barrington\, IL
UID:e.138.3365
SEQUENCE:3
DTSTAMP:20260424T101806Z
URL:https://business.carygrovechamber.com/events/details/y-me-barrington-area-breast-cancer-support-group-03-15-2012-3365
END:VEVENT

END:VCALENDAR
